BEGIN:VCALENDAR
VERSION:2.0
PRODID:-//lincolnikes.com//NONSGML kigkonsult.se iCalcreator 2.30.10//
CALSCALE:GREGORIAN
METHOD:PUBLISH
UID:28d72c18-4da3-4f18-9b82-fc2e43363f23
X-WR-CALDESC:Our Clubhouse Office will be open during this time. If you hav
 e any questions or concerns\, please contact us at 402.474.6555 or ikes.li
 ncoln@gmail.com
X-WR-RELCALID:9549b10f9d8e95199cdacb1572c1cc05
X-WR-TIMEZONE:America/Chicago
BEGIN:VTIMEZONE
TZID:America/Chicago
BEGIN:STANDARD
TZNAME:CST
DTSTART:20221106T020000
TZOFFSETFROM:-0500
TZOFFSETTO:-0600
RDATE:20231105T020000
END:STANDARD
BEGIN:DAYLIGHT
TZNAME:CDT
DTSTART:20220313T020000
TZOFFSETFROM:-0600
TZOFFSETTO:-0500
RDATE:20230312T020000
RDATE:20240310T020000
END:DAYLIGHT
END:VTIMEZONE
BEGIN:VEVENT
UID:d559fe8e-b8c4-467d-8963-510f0ef0eac5
DTSTAMP:20260422T041329Z
DESCRIPTION:Our Clubhouse Office will be open during this time. If you have
  any questions or concerns\, please contact us at 402.474.6555 or ikes.lin
 coln@gmail.com
DTSTART;TZID=America/Chicago:20221207T100000
DTEND;TZID=America/Chicago:20221207T140000
LOCATION:
SUMMARY:Clubhouse Office Open
END:VEVENT
END:VCALENDAR
