BEGIN:VCALENDAR
VERSION:2.0
PRODID:-//lincolnikes.com//NONSGML kigkonsult.se iCalcreator 2.30.10//
CALSCALE:GREGORIAN
METHOD:PUBLISH
UID:e72fa4b0-93ef-4a29-a37f-d11302e084a5
X-WR-CALDESC:
X-WR-RELCALID:c078c4759901431394a6e30e4a3e7f0f
X-WR-TIMEZONE:America/Chicago
BEGIN:VTIMEZONE
TZID:America/Chicago
BEGIN:STANDARD
TZNAME:CST
DTSTART:20221106T020000
TZOFFSETFROM:-0500
TZOFFSETTO:-0600
RDATE:20231105T020000
END:STANDARD
BEGIN:DAYLIGHT
TZNAME:CDT
DTSTART:20220313T020000
TZOFFSETFROM:-0600
TZOFFSETTO:-0500
RDATE:20230312T020000
RDATE:20240310T020000
END:DAYLIGHT
END:VTIMEZONE
BEGIN:VEVENT
UID:e91be1c0-004d-428c-b3a5-cb5b6240ecc7
DTSTAMP:20260422T041717Z
DESCRIPTION:
DTSTART;TZID=America/Chicago:20221213T183000
DTEND;TZID=America/Chicago:20221213T191500
LOCATION:
SUMMARY:Corporate Board of Directors Meeting (Clubhouse)
END:VEVENT
END:VCALENDAR
