BEGIN:VCALENDAR
VERSION:2.0
PRODID:-//lincolnikes.com//NONSGML kigkonsult.se iCalcreator 2.30.10//
CALSCALE:GREGORIAN
METHOD:PUBLISH
UID:37eda62b-44df-4a09-9d79-23514cf351b9
X-WR-CALDESC:
X-WR-RELCALID:89fab98e0d72da62ab37e1e1a93ceb6c
X-WR-TIMEZONE:America/Chicago
BEGIN:VTIMEZONE
TZID:America/Chicago
BEGIN:STANDARD
TZNAME:CST
DTSTART:20221106T020000
TZOFFSETFROM:-0500
TZOFFSETTO:-0600
RDATE:20231105T020000
END:STANDARD
BEGIN:DAYLIGHT
TZNAME:CDT
DTSTART:20220313T020000
TZOFFSETFROM:-0600
TZOFFSETTO:-0500
RDATE:20230312T020000
RDATE:20240310T020000
END:DAYLIGHT
END:VTIMEZONE
BEGIN:VEVENT
UID:f97068f1-bc9e-4028-a818-fbd1e4f42c2d
DTSTAMP:20260422T041517Z
DESCRIPTION:
DTSTART;TZID=America/Chicago:20221218T080000
DTEND;TZID=America/Chicago:20221218T130000
LOCATION:
SUMMARY:IHMSA Indoor Air Pistol Silhouettes (Clubhouse - TeSelle)
END:VEVENT
END:VCALENDAR
