BEGIN:VCALENDAR
VERSION:2.0
PRODID:-//lincolnikes.com//NONSGML kigkonsult.se iCalcreator 2.30.10//
CALSCALE:GREGORIAN
METHOD:PUBLISH
UID:5160797e-5dc2-40d3-a770-3195c2316427
X-WR-CALDESC:
X-WR-RELCALID:90c8258b25e4bfe4c9416fe682439ef3
X-WR-TIMEZONE:America/Chicago
BEGIN:VTIMEZONE
TZID:America/Chicago
BEGIN:STANDARD
TZNAME:CST
DTSTART:20221106T020000
TZOFFSETFROM:-0500
TZOFFSETTO:-0600
RDATE:20231105T020000
END:STANDARD
BEGIN:DAYLIGHT
TZNAME:CDT
DTSTART:20220313T020000
TZOFFSETFROM:-0600
TZOFFSETTO:-0500
RDATE:20230312T020000
RDATE:20240310T020000
END:DAYLIGHT
END:VTIMEZONE
BEGIN:VEVENT
UID:82ee527d-9902-460d-b90d-b68cd19f5fd5
DTSTAMP:20260422T054328Z
DESCRIPTION:
DTSTART;TZID=America/Chicago:20230104T100000
DTEND;TZID=America/Chicago:20230104T140000
LOCATION:Lincoln Ikes Clubhouse
SUMMARY:Office Open (Clubhouse)
END:VEVENT
END:VCALENDAR
