BEGIN:VCALENDAR
VERSION:2.0
PRODID:-//lincolnikes.com//NONSGML kigkonsult.se iCalcreator 2.30.10//
CALSCALE:GREGORIAN
METHOD:PUBLISH
UID:edafdf14-a9c9-4c86-b7fd-f8c26dea006e
X-WR-CALDESC:Weather permitting. If we should have some inclement weather\,
  this practice time will be canceled. Feel free to call RSO Sumner to veri
 fy.
X-WR-RELCALID:e7bc98ae3e3f01e125a91eeaa34e03e8
X-WR-TIMEZONE:America/Chicago
BEGIN:VTIMEZONE
TZID:America/Chicago
BEGIN:STANDARD
TZNAME:CST
DTSTART:20221106T020000
TZOFFSETFROM:-0500
TZOFFSETTO:-0600
RDATE:20231105T020000
END:STANDARD
BEGIN:DAYLIGHT
TZNAME:CDT
DTSTART:20220313T020000
TZOFFSETFROM:-0600
TZOFFSETTO:-0500
RDATE:20230312T020000
RDATE:20240310T020000
END:DAYLIGHT
END:VTIMEZONE
BEGIN:VEVENT
UID:0b43c1bb-68da-40ca-be1b-6df38d23ef7b
DTSTAMP:20260422T053921Z
DESCRIPTION:Weather permitting. If we should have some inclement weather\, 
 this practice time will be canceled. Feel free to call RSO Sumner to verif
 y.
DTSTART;TZID=America/Chicago:20230105T143000
DTEND;TZID=America/Chicago:20230105T160000
LOCATION:300-Yard / Rifle Range 4
SUMMARY:Members 300-Yard Range Practice (Range 4 - Sumner)
END:VEVENT
END:VCALENDAR
