BEGIN:VCALENDAR
VERSION:2.0
PRODID:-//lincolnikes.com//NONSGML kigkonsult.se iCalcreator 2.30.10//
CALSCALE:GREGORIAN
METHOD:PUBLISH
UID:a28ef6f4-b424-4968-96b7-e5048b5e74e3
X-WR-CALDESC:
X-WR-RELCALID:44253d70b17a7897e603712d559c1b62
X-WR-TIMEZONE:America/Chicago
BEGIN:VTIMEZONE
TZID:America/Chicago
BEGIN:STANDARD
TZNAME:CST
DTSTART:20221106T020000
TZOFFSETFROM:-0500
TZOFFSETTO:-0600
RDATE:20231105T020000
END:STANDARD
BEGIN:DAYLIGHT
TZNAME:CDT
DTSTART:20220313T020000
TZOFFSETFROM:-0600
TZOFFSETTO:-0500
RDATE:20230312T020000
RDATE:20240310T020000
END:DAYLIGHT
END:VTIMEZONE
BEGIN:VEVENT
UID:4238304b-f02f-41b1-a875-143dde372ad7
DTSTAMP:20260422T054451Z
DESCRIPTION:
DTSTART;TZID=America/Chicago:20230107T000000
DTEND;TZID=America/Chicago:20230107T235900
LOCATION:
SUMMARY:CANCELED DUE TO WEATHER: Club Benchrest 300-Yard
END:VEVENT
END:VCALENDAR
