BEGIN:VCALENDAR
VERSION:2.0
PRODID:-//lincolnikes.com//NONSGML kigkonsult.se iCalcreator 2.30.10//
CALSCALE:GREGORIAN
METHOD:PUBLISH
UID:a085973c-731b-4314-87eb-b518459d0aae
X-WR-CALDESC:
X-WR-RELCALID:061344b7a131df58d1f20f55d9ab3b83
X-WR-TIMEZONE:America/Chicago
BEGIN:VTIMEZONE
TZID:America/Chicago
BEGIN:STANDARD
TZNAME:CST
DTSTART:20221106T020000
TZOFFSETFROM:-0500
TZOFFSETTO:-0600
RDATE:20231105T020000
END:STANDARD
BEGIN:DAYLIGHT
TZNAME:CDT
DTSTART:20220313T020000
TZOFFSETFROM:-0600
TZOFFSETTO:-0500
RDATE:20230312T020000
RDATE:20240310T020000
END:DAYLIGHT
END:VTIMEZONE
BEGIN:VEVENT
UID:61deba1e-c2c3-423a-920f-58b16082de89
DTSTAMP:20260422T054320Z
DESCRIPTION:
DTSTART;TZID=America/Chicago:20230112T100000
DTEND;TZID=America/Chicago:20230112T140000
LOCATION:Lincoln Ikes Clubhouse
SUMMARY:Office Open (Clubhouse)
END:VEVENT
END:VCALENDAR
