BEGIN:VCALENDAR
VERSION:2.0
PRODID:-//lincolnikes.com//NONSGML kigkonsult.se iCalcreator 2.30.10//
CALSCALE:GREGORIAN
METHOD:PUBLISH
UID:a9680930-3633-43c6-ae3e-c039d30bbc55
X-WR-CALDESC:
X-WR-RELCALID:012ae406a50810ed15459f5707448223
X-WR-TIMEZONE:America/Chicago
BEGIN:VTIMEZONE
TZID:America/Chicago
BEGIN:STANDARD
TZNAME:CST
DTSTART:20221106T020000
TZOFFSETFROM:-0500
TZOFFSETTO:-0600
RDATE:20231105T020000
END:STANDARD
BEGIN:DAYLIGHT
TZNAME:CDT
DTSTART:20220313T020000
TZOFFSETFROM:-0600
TZOFFSETTO:-0500
RDATE:20230312T020000
RDATE:20240310T020000
END:DAYLIGHT
END:VTIMEZONE
BEGIN:VEVENT
UID:eeb877d8-2b39-4c23-85c4-7e97d97bb9d3
DTSTAMP:20260422T054839Z
DESCRIPTION:
DTSTART;TZID=America/Chicago:20230115T080000
DTEND;TZID=America/Chicago:20230115T130000
LOCATION:
SUMMARY:IHMSA Indoor Air Pistol Silhouettes (Clubhouse - TeSelle)
END:VEVENT
END:VCALENDAR
