BEGIN:VCALENDAR
VERSION:2.0
PRODID:-//lincolnikes.com//NONSGML kigkonsult.se iCalcreator 2.30.10//
CALSCALE:GREGORIAN
METHOD:PUBLISH
UID:7382be3e-8a9a-4d12-8d85-b10f4e1e34ac
X-WR-CALDESC:Weather permitting. If we should have some inclement weather\,
  this practice time will be canceled. Feel free to call RSO Sumner to veri
 fy.
X-WR-RELCALID:96e3d29cc8e60937eb3b3ac579316574
X-WR-TIMEZONE:America/Chicago
BEGIN:VTIMEZONE
TZID:America/Chicago
BEGIN:STANDARD
TZNAME:CST
DTSTART:20221106T020000
TZOFFSETFROM:-0500
TZOFFSETTO:-0600
RDATE:20231105T020000
END:STANDARD
BEGIN:DAYLIGHT
TZNAME:CDT
DTSTART:20220313T020000
TZOFFSETFROM:-0600
TZOFFSETTO:-0500
RDATE:20230312T020000
RDATE:20240310T020000
END:DAYLIGHT
END:VTIMEZONE
BEGIN:VEVENT
UID:6605ef38-9e0c-4c89-a6d1-4bc5ed0b83ff
DTSTAMP:20260422T054116Z
DESCRIPTION:Weather permitting. If we should have some inclement weather\, 
 this practice time will be canceled. Feel free to call RSO Sumner to verif
 y.
DTSTART;TZID=America/Chicago:20230119T000000
DTEND;TZID=America/Chicago:20230119T235900
LOCATION:300-Yard / Rifle Range 4
SUMMARY:CANCELED THIS WEEK: Members 300-Yard Range Practice (Range 4 - Sumn
 er)
END:VEVENT
END:VCALENDAR
