BEGIN:VCALENDAR
VERSION:2.0
PRODID:-//lincolnikes.com//NONSGML kigkonsult.se iCalcreator 2.30.10//
CALSCALE:GREGORIAN
METHOD:PUBLISH
UID:40c16f28-05ce-4f31-a565-98f84a50daff
X-WR-CALDESC:
X-WR-RELCALID:7b3245b0ebd51a657fdcc503f4619bbd
X-WR-TIMEZONE:America/Chicago
BEGIN:VTIMEZONE
TZID:America/Chicago
BEGIN:STANDARD
TZNAME:CST
DTSTART:20221106T020000
TZOFFSETFROM:-0500
TZOFFSETTO:-0600
RDATE:20231105T020000
END:STANDARD
BEGIN:DAYLIGHT
TZNAME:CDT
DTSTART:20220313T020000
TZOFFSETFROM:-0600
TZOFFSETTO:-0500
RDATE:20230312T020000
RDATE:20240310T020000
END:DAYLIGHT
END:VTIMEZONE
BEGIN:VEVENT
UID:2721a677-d515-4de4-ac17-db1a8dfe1fb4
DTSTAMP:20260422T054255Z
DESCRIPTION:
DTSTART;TZID=America/Chicago:20230125T100000
DTEND;TZID=America/Chicago:20230125T140000
LOCATION:Lincoln Ikes Clubhouse
SUMMARY:Office Open (Clubhouse)
END:VEVENT
END:VCALENDAR
