BEGIN:VCALENDAR
VERSION:2.0
PRODID:-//lincolnikes.com//NONSGML kigkonsult.se iCalcreator 2.30.10//
CALSCALE:GREGORIAN
METHOD:PUBLISH
UID:f8e77a94-0668-4943-9261-850fc9e1b183
X-WR-CALDESC:
X-WR-RELCALID:7dab2fa692f39196d6aed3f36d0798b2
X-WR-TIMEZONE:America/Chicago
BEGIN:VTIMEZONE
TZID:America/Chicago
BEGIN:STANDARD
TZNAME:CST
DTSTART:20221106T020000
TZOFFSETFROM:-0500
TZOFFSETTO:-0600
RDATE:20231105T020000
END:STANDARD
BEGIN:DAYLIGHT
TZNAME:CDT
DTSTART:20220313T020000
TZOFFSETFROM:-0600
TZOFFSETTO:-0500
RDATE:20230312T020000
RDATE:20240310T020000
END:DAYLIGHT
END:VTIMEZONE
BEGIN:VEVENT
UID:70fec499-7f36-4978-bb37-7f7276acdcd3
DTSTAMP:20260422T093606Z
DESCRIPTION:
DTSTART;TZID=America/Chicago:20230304T000000
DTEND;TZID=America/Chicago:20230304T235900
LOCATION:Lincoln Ikes Rifle/Pistol Range 4
SUMMARY:CANCELED: Club Benchrest 300-Yard
END:VEVENT
END:VCALENDAR
