BEGIN:VCALENDAR
VERSION:2.0
PRODID:-//lincolnikes.com//NONSGML kigkonsult.se iCalcreator 2.30.10//
CALSCALE:GREGORIAN
METHOD:PUBLISH
UID:f4b3b911-4908-4018-852a-d7715e717766
X-WR-CALDESC:
X-WR-RELCALID:aac1bca79ceae4d8b40caf4de32b66d8
X-WR-TIMEZONE:America/Chicago
BEGIN:VTIMEZONE
TZID:America/Chicago
BEGIN:STANDARD
TZNAME:CST
DTSTART:20221106T020000
TZOFFSETFROM:-0500
TZOFFSETTO:-0600
RDATE:20231105T020000
END:STANDARD
BEGIN:DAYLIGHT
TZNAME:CDT
DTSTART:20220313T020000
TZOFFSETFROM:-0600
TZOFFSETTO:-0500
RDATE:20230312T020000
RDATE:20240310T020000
END:DAYLIGHT
END:VTIMEZONE
BEGIN:VEVENT
UID:552fb681-cbdc-4fab-bef7-429c534a00f5
DTSTAMP:20260422T093053Z
DESCRIPTION:
DTSTART;TZID=America/Chicago:20230304T123000
DTEND;TZID=America/Chicago:20230304T170000
LOCATION:
SUMMARY:High School Trap Teams Practice (Traps 3-7)
END:VEVENT
END:VCALENDAR
