BEGIN:VCALENDAR
VERSION:2.0
PRODID:-//lincolnikes.com//NONSGML kigkonsult.se iCalcreator 2.30.10//
CALSCALE:GREGORIAN
METHOD:PUBLISH
UID:777b8d5d-e41f-43e6-88c5-aaf95a6e9bc8
X-WR-CALDESC:*Range 4 is only open to our members during these special sche
 duled times. During adverse weather conditions\, please contact the RSO to
  make sure that this scheduled time is still on.
X-WR-RELCALID:b883983fd635f9f35af6981159cce146
X-WR-TIMEZONE:America/Chicago
BEGIN:VTIMEZONE
TZID:America/Chicago
BEGIN:STANDARD
TZNAME:CST
DTSTART:20221106T020000
TZOFFSETFROM:-0500
TZOFFSETTO:-0600
RDATE:20231105T020000
END:STANDARD
BEGIN:DAYLIGHT
TZNAME:CDT
DTSTART:20220313T020000
TZOFFSETFROM:-0600
TZOFFSETTO:-0500
RDATE:20230312T020000
RDATE:20240310T020000
END:DAYLIGHT
END:VTIMEZONE
BEGIN:VEVENT
UID:3e388b73-93b0-40c5-a8bf-b26375cfbd3a
DTSTAMP:20260422T093041Z
DESCRIPTION:*Range 4 is only open to our members during these special sched
 uled times. During adverse weather conditions\, please contact the RSO to 
 make sure that this scheduled time is still on.
DTSTART;TZID=America/Chicago:20230305T150000
DTEND;TZID=America/Chicago:20230305T192000
LOCATION:Lincoln Ikes Rifle Range 4
SUMMARY:Members 300-Yard Range Practice (Range 4) (Lonkoski)
END:VEVENT
END:VCALENDAR
