BEGIN:VCALENDAR
VERSION:2.0
PRODID:-//lincolnikes.com//NONSGML kigkonsult.se iCalcreator 2.30.10//
CALSCALE:GREGORIAN
METHOD:PUBLISH
UID:aa3b302c-61c4-46a6-9d55-45069c9a1dc1
X-WR-CALDESC:
X-WR-RELCALID:de8241a91ec30c005107ba248e7f3361
X-WR-TIMEZONE:America/Chicago
BEGIN:VTIMEZONE
TZID:America/Chicago
BEGIN:STANDARD
TZNAME:CST
DTSTART:20221106T020000
TZOFFSETFROM:-0500
TZOFFSETTO:-0600
RDATE:20231105T020000
END:STANDARD
BEGIN:DAYLIGHT
TZNAME:CDT
DTSTART:20220313T020000
TZOFFSETFROM:-0600
TZOFFSETTO:-0500
RDATE:20230312T020000
RDATE:20240310T020000
END:DAYLIGHT
END:VTIMEZONE
BEGIN:VEVENT
UID:c14c66a2-52ed-4270-bb84-c021b880b42c
DTSTAMP:20260422T093222Z
DESCRIPTION:
DTSTART;TZID=America/Chicago:20230311T090000
DTEND;TZID=America/Chicago:20230311T110000
LOCATION:Lincoln Ikes Rifle Range 4
SUMMARY:CMP Rimfire Sporter Rifle (Range 4)
END:VEVENT
END:VCALENDAR
