BEGIN:VCALENDAR
VERSION:2.0
PRODID:-//lincolnikes.com//NONSGML kigkonsult.se iCalcreator 2.30.10//
CALSCALE:GREGORIAN
METHOD:PUBLISH
UID:d290a781-dc6d-40ee-968a-62cc4cfb82e0
X-WR-CALDESC:http://www.shootectc.org/
X-WR-RELCALID:ba02652e2436a7d45523dadf683060c6
X-WR-TIMEZONE:America/Chicago
BEGIN:VTIMEZONE
TZID:America/Chicago
BEGIN:STANDARD
TZNAME:CST
DTSTART:20221106T020000
TZOFFSETFROM:-0500
TZOFFSETTO:-0600
RDATE:20231105T020000
END:STANDARD
BEGIN:DAYLIGHT
TZNAME:CDT
DTSTART:20220313T020000
TZOFFSETFROM:-0600
TZOFFSETTO:-0500
RDATE:20230312T020000
RDATE:20240310T020000
END:DAYLIGHT
END:VTIMEZONE
BEGIN:VEVENT
UID:8c4474f0-2627-4886-adeb-3fd2fa7cba76
DTSTAMP:20260422T093321Z
DESCRIPTION:http://www.shootectc.org/
DTSTART;TZID=America/Chicago:20230311T000000
DTEND;TZID=America/Chicago:20230311T235900
LOCATION:Lincoln Ikes Trap Range & Clubhouse
SUMMARY:Eastern Cornhusker Trapshooting Conference Meet (Trap Range & Clubh
 ouse)
END:VEVENT
END:VCALENDAR
