BEGIN:VCALENDAR
VERSION:2.0
PRODID:-//lincolnikes.com//NONSGML kigkonsult.se iCalcreator 2.30.10//
CALSCALE:GREGORIAN
METHOD:PUBLISH
UID:1795eaf5-a6e0-40cf-9d45-fff69c889982
X-WR-CALDESC:
X-WR-RELCALID:853d3738f166e12385d4fff82f83ce21
X-WR-TIMEZONE:America/Chicago
BEGIN:VTIMEZONE
TZID:America/Chicago
BEGIN:STANDARD
TZNAME:CST
DTSTART:20221106T020000
TZOFFSETFROM:-0500
TZOFFSETTO:-0600
RDATE:20231105T020000
END:STANDARD
BEGIN:DAYLIGHT
TZNAME:CDT
DTSTART:20230312T020000
TZOFFSETFROM:-0600
TZOFFSETTO:-0500
RDATE:20240310T020000
END:DAYLIGHT
END:VTIMEZONE
BEGIN:VEVENT
UID:879c04d6-1aa7-4680-a0b7-00fa60fd3a27
DTSTAMP:20260422T094048Z
DESCRIPTION:
DTSTART;TZID=America/Chicago:20230322T150000
DTEND;TZID=America/Chicago:20230322T183000
LOCATION:
SUMMARY:High School Trap Teams Practice (All Traps & Clubhouse)
END:VEVENT
END:VCALENDAR
