BEGIN:VCALENDAR
VERSION:2.0
PRODID:-//lincolnikes.com//NONSGML kigkonsult.se iCalcreator 2.30.10//
CALSCALE:GREGORIAN
METHOD:PUBLISH
UID:efed2388-8571-4d84-add5-2b3d18b89cb1
X-WR-CALDESC:
X-WR-RELCALID:e4d01e573846889fb2057e49ad0aa4d6
X-WR-TIMEZONE:America/Chicago
BEGIN:VTIMEZONE
TZID:America/Chicago
BEGIN:STANDARD
TZNAME:CST
DTSTART:20221106T020000
TZOFFSETFROM:-0500
TZOFFSETTO:-0600
RDATE:20231105T020000
END:STANDARD
BEGIN:DAYLIGHT
TZNAME:CDT
DTSTART:20230312T020000
TZOFFSETFROM:-0600
TZOFFSETTO:-0500
RDATE:20240310T020000
END:DAYLIGHT
END:VTIMEZONE
BEGIN:VEVENT
UID:f36cec0d-27a5-4042-b0f4-3edbbfe6c65e
DTSTAMP:20260422T093704Z
DESCRIPTION:
DTSTART;TZID=America/Chicago:20230325T000000
DTEND;TZID=America/Chicago:20230325T235900
LOCATION:Lincoln Ikes Rifle Ranges 1 & 4
SUMMARY:CANCELED: UML 2-Gun Competition (Ranges 1 & 4 - Zunaibi)
END:VEVENT
END:VCALENDAR
