BEGIN:VCALENDAR
VERSION:2.0
PRODID:-//lincolnikes.com//NONSGML kigkonsult.se iCalcreator 2.30.10//
CALSCALE:GREGORIAN
METHOD:PUBLISH
UID:4047a717-b4ef-4dca-8422-8c69ab3a21cc
X-WR-CALDESC:
X-WR-RELCALID:314f3e3da5cac7ffc17dd4f6c38725fc
X-WR-TIMEZONE:America/Chicago
BEGIN:VTIMEZONE
TZID:America/Chicago
BEGIN:STANDARD
TZNAME:CST
DTSTART:20221106T020000
TZOFFSETFROM:-0500
TZOFFSETTO:-0600
RDATE:20231105T020000
END:STANDARD
BEGIN:DAYLIGHT
TZNAME:CDT
DTSTART:20230312T020000
TZOFFSETFROM:-0600
TZOFFSETTO:-0500
RDATE:20240310T020000
END:DAYLIGHT
END:VTIMEZONE
BEGIN:VEVENT
UID:92cc45af-7568-43dc-bfaf-9f849da06a9f
DTSTAMP:20260422T093704Z
DESCRIPTION:
DTSTART;TZID=America/Chicago:20230331T160000
DTEND;TZID=America/Chicago:20230331T183000
LOCATION:
SUMMARY:High School Trap Teams Practice (4 traps)
END:VEVENT
END:VCALENDAR
