BEGIN:VCALENDAR
VERSION:2.0
PRODID:-//lincolnikes.com//NONSGML kigkonsult.se iCalcreator 2.30.10//
CALSCALE:GREGORIAN
METHOD:PUBLISH
UID:f7c1c41f-85f3-4b8b-a840-cef88ddb59ad
X-WR-CALDESC:http://www.shootectc.org/
X-WR-RELCALID:62ec16508ff978b95f8a4f65fa892cdb
X-WR-TIMEZONE:America/Chicago
BEGIN:VTIMEZONE
TZID:America/Chicago
BEGIN:STANDARD
TZNAME:CST
DTSTART:20221106T020000
TZOFFSETFROM:-0500
TZOFFSETTO:-0600
RDATE:20231105T020000
END:STANDARD
BEGIN:DAYLIGHT
TZNAME:CDT
DTSTART:20230312T020000
TZOFFSETFROM:-0600
TZOFFSETTO:-0500
RDATE:20240310T020000
END:DAYLIGHT
END:VTIMEZONE
BEGIN:VEVENT
UID:0ceba5b6-a885-427d-9867-a8a1af0961e8
DTSTAMP:20260422T112402Z
DESCRIPTION:http://www.shootectc.org/
DTSTART;TZID=America/Chicago:20230401T000000
DTEND;TZID=America/Chicago:20230401T235900
LOCATION:Lincoln Ikes Trap Range & Clubhouse
SUMMARY:Eastern Cornhusker Trapshooting Conference Meet (Trap Range & Clubh
 ouse)
END:VEVENT
END:VCALENDAR
