BEGIN:VCALENDAR
VERSION:2.0
PRODID:-//lincolnikes.com//NONSGML kigkonsult.se iCalcreator 2.30.10//
CALSCALE:GREGORIAN
METHOD:PUBLISH
UID:20acd4ec-9f2f-4d7c-af67-9b0b7fe6434f
X-WR-CALDESC:
X-WR-RELCALID:ed4c812369541cf520efe1bfe2649d21
X-WR-TIMEZONE:America/Chicago
BEGIN:VTIMEZONE
TZID:America/Chicago
BEGIN:STANDARD
TZNAME:CST
DTSTART:20221106T020000
TZOFFSETFROM:-0500
TZOFFSETTO:-0600
RDATE:20231105T020000
END:STANDARD
BEGIN:DAYLIGHT
TZNAME:CDT
DTSTART:20230312T020000
TZOFFSETFROM:-0600
TZOFFSETTO:-0500
RDATE:20240310T020000
END:DAYLIGHT
END:VTIMEZONE
BEGIN:VEVENT
UID:cb32975c-1d0a-42f5-91ce-bc344ba81c9c
DTSTAMP:20260422T112437Z
DESCRIPTION:
DTSTART;TZID=America/Chicago:20230402T120000
DTEND;TZID=America/Chicago:20230402T133000
LOCATION:
SUMMARY:High School Trap Teams Practice (2 traps)
END:VEVENT
END:VCALENDAR
