BEGIN:VCALENDAR
VERSION:2.0
PRODID:-//lincolnikes.com//NONSGML kigkonsult.se iCalcreator 2.30.10//
CALSCALE:GREGORIAN
METHOD:PUBLISH
UID:9c31f54f-0221-427c-a71a-6543dc93e13e
X-WR-CALDESC:Weather permitting. If we should have some inclement weather\,
  this practice time will be canceled. Feel free to call RSO Bertram to ver
 ify.
X-WR-RELCALID:9fd295aa8bdea120f9d1ec23e47fc7a0
X-WR-TIMEZONE:America/Chicago
BEGIN:VTIMEZONE
TZID:America/Chicago
BEGIN:STANDARD
TZNAME:CST
DTSTART:20221106T020000
TZOFFSETFROM:-0500
TZOFFSETTO:-0600
RDATE:20231105T020000
END:STANDARD
BEGIN:DAYLIGHT
TZNAME:CDT
DTSTART:20230312T020000
TZOFFSETFROM:-0600
TZOFFSETTO:-0500
RDATE:20240310T020000
END:DAYLIGHT
END:VTIMEZONE
BEGIN:VEVENT
UID:9ffa5186-1966-43be-bab0-336bf7e35c5a
DTSTAMP:20260422T112242Z
DESCRIPTION:Weather permitting. If we should have some inclement weather\, 
 this practice time will be canceled. Feel free to call RSO Bertram to veri
 fy.
DTSTART;TZID=America/Chicago:20230405T173000
DTEND;TZID=America/Chicago:20230405T195500
LOCATION:300-Yard / Rifle Range 4
SUMMARY:Members 300-Yard Range Practice (Range 4 - Bertram)
END:VEVENT
END:VCALENDAR
