BEGIN:VCALENDAR
VERSION:2.0
PRODID:-//lincolnikes.com//NONSGML kigkonsult.se iCalcreator 2.30.10//
CALSCALE:GREGORIAN
METHOD:PUBLISH
UID:453b3ca3-51de-4bcb-bdef-b50173418942
X-WR-CALDESC:
X-WR-RELCALID:9f86cf9a8e09d45f17cb6ddcaf813889
X-WR-TIMEZONE:America/Chicago
BEGIN:VTIMEZONE
TZID:America/Chicago
BEGIN:STANDARD
TZNAME:CST
DTSTART:20221106T020000
TZOFFSETFROM:-0500
TZOFFSETTO:-0600
RDATE:20231105T020000
END:STANDARD
BEGIN:DAYLIGHT
TZNAME:CDT
DTSTART:20230312T020000
TZOFFSETFROM:-0600
TZOFFSETTO:-0500
RDATE:20240310T020000
END:DAYLIGHT
END:VTIMEZONE
BEGIN:VEVENT
UID:ea3d6b7a-7487-4e2a-8903-d67f68f9237f
DTSTAMP:20260422T112529Z
DESCRIPTION:
DTSTART;TZID=America/Chicago:20230407T160000
DTEND;TZID=America/Chicago:20230407T183000
LOCATION:
SUMMARY:High School Trap Teams Practice (4 traps)
END:VEVENT
END:VCALENDAR
