BEGIN:VCALENDAR
VERSION:2.0
PRODID:-//lincolnikes.com//NONSGML kigkonsult.se iCalcreator 2.30.10//
CALSCALE:GREGORIAN
METHOD:PUBLISH
UID:f2ba489a-186c-45ab-981b-3f75875b981e
X-WR-CALDESC:
X-WR-RELCALID:2688a6afb655aabd7292c86a17ef2421
X-WR-TIMEZONE:America/Chicago
BEGIN:VTIMEZONE
TZID:America/Chicago
BEGIN:STANDARD
TZNAME:CST
DTSTART:20221106T020000
TZOFFSETFROM:-0500
TZOFFSETTO:-0600
RDATE:20231105T020000
END:STANDARD
BEGIN:DAYLIGHT
TZNAME:CDT
DTSTART:20230312T020000
TZOFFSETFROM:-0600
TZOFFSETTO:-0500
RDATE:20240310T020000
END:DAYLIGHT
END:VTIMEZONE
BEGIN:VEVENT
UID:0b137772-a051-436e-b082-5a5604baad27
DTSTAMP:20260422T112410Z
DESCRIPTION:
DTSTART;TZID=America/Chicago:20230408T120000
DTEND;TZID=America/Chicago:20230408T183000
LOCATION:Lincoln Ikes Rifle Range 4
SUMMARY:12:00noon - Sunset: Bowling Pin Match (Range 4)
END:VEVENT
END:VCALENDAR
