BEGIN:VCALENDAR
VERSION:2.0
PRODID:-//lincolnikes.com//NONSGML kigkonsult.se iCalcreator 2.30.10//
CALSCALE:GREGORIAN
METHOD:PUBLISH
UID:544c8f26-cf00-466b-a45d-0c90ed870718
X-WR-CALDESC:
X-WR-RELCALID:6edefa6d1d2ddb86e3d91251d9ac3a2e
X-WR-TIMEZONE:America/Chicago
BEGIN:VTIMEZONE
TZID:America/Chicago
BEGIN:STANDARD
TZNAME:CST
DTSTART:20221106T020000
TZOFFSETFROM:-0500
TZOFFSETTO:-0600
RDATE:20231105T020000
END:STANDARD
BEGIN:DAYLIGHT
TZNAME:CDT
DTSTART:20230312T020000
TZOFFSETFROM:-0600
TZOFFSETTO:-0500
RDATE:20240310T020000
END:DAYLIGHT
END:VTIMEZONE
BEGIN:VEVENT
UID:821c14b1-8296-4305-90f0-0ffcdffc4006
DTSTAMP:20260422T112518Z
DESCRIPTION:
DTSTART;TZID=America/Chicago:20230409T120000
DTEND;TZID=America/Chicago:20230409T133000
LOCATION:
SUMMARY:High School Trap Teams Practice (2 traps)
END:VEVENT
END:VCALENDAR
