BEGIN:VCALENDAR
VERSION:2.0
PRODID:-//lincolnikes.com//NONSGML kigkonsult.se iCalcreator 2.30.10//
CALSCALE:GREGORIAN
METHOD:PUBLISH
UID:707182ba-a5fe-4ada-a2d0-bfcf210f2419
X-WR-CALDESC:
X-WR-RELCALID:16c594ac33cc15e1a860a84484322f23
X-WR-TIMEZONE:America/Chicago
BEGIN:VTIMEZONE
TZID:America/Chicago
BEGIN:STANDARD
TZNAME:CST
DTSTART:20221106T020000
TZOFFSETFROM:-0500
TZOFFSETTO:-0600
RDATE:20231105T020000
END:STANDARD
BEGIN:DAYLIGHT
TZNAME:CDT
DTSTART:20230312T020000
TZOFFSETFROM:-0600
TZOFFSETTO:-0500
RDATE:20240310T020000
END:DAYLIGHT
END:VTIMEZONE
BEGIN:VEVENT
UID:1d0d9030-a72e-4ca7-8334-2f2328b1d7ce
DTSTAMP:20260422T112556Z
DESCRIPTION:
DTSTART;TZID=America/Chicago:20230416T120000
DTEND;TZID=America/Chicago:20230416T133000
LOCATION:
SUMMARY:High School Trap Teams Practice (2 traps)
END:VEVENT
END:VCALENDAR
