BEGIN:VCALENDAR
VERSION:2.0
PRODID:-//lincolnikes.com//NONSGML kigkonsult.se iCalcreator 2.30.10//
CALSCALE:GREGORIAN
METHOD:PUBLISH
UID:107d23f2-8791-4b05-beb8-b888df3dbab2
X-WR-CALDESC:
X-WR-RELCALID:842a5b94a5746ba0a701a554602796d3
X-WR-TIMEZONE:America/Chicago
BEGIN:VTIMEZONE
TZID:America/Chicago
BEGIN:STANDARD
TZNAME:CST
DTSTART:20221106T020000
TZOFFSETFROM:-0500
TZOFFSETTO:-0600
RDATE:20231105T020000
END:STANDARD
BEGIN:DAYLIGHT
TZNAME:CDT
DTSTART:20230312T020000
TZOFFSETFROM:-0600
TZOFFSETTO:-0500
RDATE:20240310T020000
END:DAYLIGHT
END:VTIMEZONE
BEGIN:VEVENT
UID:196f221d-57e2-47e7-9364-45efcbdc0720
DTSTAMP:20260422T112658Z
DESCRIPTION:
DTSTART;TZID=America/Chicago:20230422T070000
DTEND;TZID=America/Chicago:20230422T150000
LOCATION:Lincoln Ikes Rifle Ranges 1 & 4
SUMMARY:UML 2-Gun Competition (Ranges 1 & 4 - Zunaibi)
END:VEVENT
END:VCALENDAR
