BEGIN:VCALENDAR
VERSION:2.0
PRODID:-//lincolnikes.com//NONSGML kigkonsult.se iCalcreator 2.30.10//
CALSCALE:GREGORIAN
METHOD:PUBLISH
UID:ad9c6771-aa1c-4f92-bc7f-8fa3cd1415a3
X-WR-CALDESC:http://www.shootectc.org/
X-WR-RELCALID:86e0582fe88056c2717b62f5dccf1c16
X-WR-TIMEZONE:America/Chicago
BEGIN:VTIMEZONE
TZID:America/Chicago
BEGIN:STANDARD
TZNAME:CST
DTSTART:20221106T020000
TZOFFSETFROM:-0500
TZOFFSETTO:-0600
RDATE:20231105T020000
END:STANDARD
BEGIN:DAYLIGHT
TZNAME:CDT
DTSTART:20230312T020000
TZOFFSETFROM:-0600
TZOFFSETTO:-0500
RDATE:20240310T020000
END:DAYLIGHT
END:VTIMEZONE
BEGIN:VEVENT
UID:dc48e4c0-4d7f-44ea-9fd8-ca7786eebf6b
DTSTAMP:20260422T112410Z
DESCRIPTION:http://www.shootectc.org/
DTSTART;TZID=America/Chicago:20230422T000000
DTEND;TZID=America/Chicago:20230422T235900
LOCATION:Lincoln Ikes Trap Range & Clubhouse
SUMMARY:Eastern Cornhusker Trapshooting Conference Meet (Trap Range & Clubh
 ouse)
END:VEVENT
END:VCALENDAR
