BEGIN:VCALENDAR
VERSION:2.0
PRODID:-//lincolnikes.com//NONSGML kigkonsult.se iCalcreator 2.30.10//
CALSCALE:GREGORIAN
METHOD:PUBLISH
UID:9a715e4b-dc0a-4443-89d1-5ae5ea4a96e9
X-WR-CALDESC:
X-WR-RELCALID:45c4be2dbb32eca980bc3f2269993126
X-WR-TIMEZONE:America/Chicago
BEGIN:VTIMEZONE
TZID:America/Chicago
BEGIN:STANDARD
TZNAME:CST
DTSTART:20221106T020000
TZOFFSETFROM:-0500
TZOFFSETTO:-0600
RDATE:20231105T020000
END:STANDARD
BEGIN:DAYLIGHT
TZNAME:CDT
DTSTART:20230312T020000
TZOFFSETFROM:-0600
TZOFFSETTO:-0500
RDATE:20240310T020000
END:DAYLIGHT
END:VTIMEZONE
BEGIN:VEVENT
UID:b058d99e-a34b-47bf-be83-5554abbc8b90
DTSTAMP:20260422T112529Z
DESCRIPTION:
DTSTART;TZID=America/Chicago:20230423T120000
DTEND;TZID=America/Chicago:20230423T133000
LOCATION:
SUMMARY:High School Trap Teams Practice (2 traps)
END:VEVENT
END:VCALENDAR
