BEGIN:VCALENDAR
VERSION:2.0
PRODID:-//lincolnikes.com//NONSGML kigkonsult.se iCalcreator 2.30.10//
CALSCALE:GREGORIAN
METHOD:PUBLISH
UID:6246fe8e-7138-4973-bc09-9a960cabc8db
X-WR-CALDESC:
X-WR-RELCALID:8e6f7c3c12ae0b5103617669cb74050c
X-WR-TIMEZONE:America/Chicago
BEGIN:VTIMEZONE
TZID:America/Chicago
BEGIN:STANDARD
TZNAME:CST
DTSTART:20221106T020000
TZOFFSETFROM:-0500
TZOFFSETTO:-0600
RDATE:20231105T020000
END:STANDARD
BEGIN:DAYLIGHT
TZNAME:CDT
DTSTART:20230312T020000
TZOFFSETFROM:-0600
TZOFFSETTO:-0500
RDATE:20240310T020000
END:DAYLIGHT
END:VTIMEZONE
BEGIN:VEVENT
UID:98e13002-8a33-4126-bb49-6369effcc648
DTSTAMP:20260422T113320Z
DESCRIPTION:
DTSTART;TZID=America/Chicago:20230426T190000
DTEND;TZID=America/Chicago:20230426T200000
LOCATION:
SUMMARY:Rifle/Pistol Committee Meeting (Clubhouse - Lonkoski)
END:VEVENT
END:VCALENDAR
