BEGIN:VCALENDAR
VERSION:2.0
PRODID:-//lincolnikes.com//NONSGML kigkonsult.se iCalcreator 2.30.10//
CALSCALE:GREGORIAN
METHOD:PUBLISH
UID:20cd4fdc-9626-4837-9219-174ae7c79b08
X-WR-CALDESC:
X-WR-RELCALID:e05e83ef3832ff32e71dd1330c8c8a51
X-WR-TIMEZONE:America/Chicago
BEGIN:VTIMEZONE
TZID:America/Chicago
BEGIN:STANDARD
TZNAME:CST
DTSTART:20221106T020000
TZOFFSETFROM:-0500
TZOFFSETTO:-0600
RDATE:20231105T020000
END:STANDARD
BEGIN:DAYLIGHT
TZNAME:CDT
DTSTART:20230312T020000
TZOFFSETFROM:-0600
TZOFFSETTO:-0500
RDATE:20240310T020000
END:DAYLIGHT
END:VTIMEZONE
BEGIN:VEVENT
UID:f33db5ee-e25a-4072-a84b-bcd302fca004
DTSTAMP:20260422T112518Z
DESCRIPTION:
DTSTART;TZID=America/Chicago:20230430T080000
DTEND;TZID=America/Chicago:20230430T170000
LOCATION:Lincoln Ikes Rifle Range 4
SUMMARY:NBRSA HTR/VFS 2 Gun Benchrest Match (Range 4 - Shultz)
END:VEVENT
END:VCALENDAR
