BEGIN:VCALENDAR
VERSION:2.0
PRODID:-//lincolnikes.com//NONSGML kigkonsult.se iCalcreator 2.30.10//
CALSCALE:GREGORIAN
METHOD:PUBLISH
UID:4fad3254-4a98-45bb-889c-e55a9fb22c4e
X-WR-CALDESC:
X-WR-RELCALID:3f4df0b59ff1280a0d6d984b11813456
X-WR-TIMEZONE:America/Chicago
BEGIN:VTIMEZONE
TZID:America/Chicago
BEGIN:STANDARD
TZNAME:CST
DTSTART:20221106T020000
TZOFFSETFROM:-0500
TZOFFSETTO:-0600
RDATE:20231105T020000
RDATE:20241103T020000
END:STANDARD
BEGIN:DAYLIGHT
TZNAME:CDT
DTSTART:20230312T020000
TZOFFSETFROM:-0600
TZOFFSETTO:-0500
RDATE:20240310T020000
END:DAYLIGHT
END:VTIMEZONE
BEGIN:VEVENT
UID:12d25dee-8d73-486f-866e-3b4a644f33c3
DTSTAMP:20260422T124454Z
DESCRIPTION:
DTSTART;TZID=America/Chicago:20230513T120000
DTEND;TZID=America/Chicago:20230513T183000
LOCATION:Lincoln Ikes Rifle Range 4
SUMMARY:12:00noon - Sunset: Bowling Pin Match (Range 4)
END:VEVENT
END:VCALENDAR
