BEGIN:VCALENDAR
VERSION:2.0
PRODID:-//lincolnikes.com//NONSGML kigkonsult.se iCalcreator 2.30.10//
CALSCALE:GREGORIAN
METHOD:PUBLISH
UID:74f7616c-3d1d-40f9-9634-0d6ef4074447
X-WR-CALDESC:
X-WR-RELCALID:84e800d1b0c798df821431b6afdc8f6c
X-WR-TIMEZONE:America/Chicago
BEGIN:VTIMEZONE
TZID:America/Chicago
BEGIN:STANDARD
TZNAME:CST
DTSTART:20221106T020000
TZOFFSETFROM:-0500
TZOFFSETTO:-0600
RDATE:20231105T020000
RDATE:20241103T020000
END:STANDARD
BEGIN:DAYLIGHT
TZNAME:CDT
DTSTART:20230312T020000
TZOFFSETFROM:-0600
TZOFFSETTO:-0500
RDATE:20240310T020000
END:DAYLIGHT
END:VTIMEZONE
BEGIN:VEVENT
UID:a387d0de-11b0-4e72-8cb3-727b0c5ea25d
DTSTAMP:20260422T124826Z
DESCRIPTION:
DTSTART;TZID=America/Chicago:20230518T180000
DTEND;TZID=America/Chicago:20230518T220000
LOCATION:Lincoln Ikes Trap Range & Clubhouse
SUMMARY:Ikes Summer Trap League (All Traps & Clubhouse)
END:VEVENT
END:VCALENDAR
