BEGIN:VCALENDAR
VERSION:2.0
PRODID:-//lincolnikes.com//NONSGML kigkonsult.se iCalcreator 2.30.10//
CALSCALE:GREGORIAN
METHOD:PUBLISH
UID:b0f827dd-bcd9-428d-8b1d-b37d852442e4
X-WR-CALDESC:
X-WR-RELCALID:a47fe35aeb009a9690293c379b1e3d6b
X-WR-TIMEZONE:America/Chicago
BEGIN:VTIMEZONE
TZID:America/Chicago
BEGIN:STANDARD
TZNAME:CST
DTSTART:20221106T020000
TZOFFSETFROM:-0500
TZOFFSETTO:-0600
RDATE:20231105T020000
RDATE:20241103T020000
END:STANDARD
BEGIN:DAYLIGHT
TZNAME:CDT
DTSTART:20230312T020000
TZOFFSETFROM:-0600
TZOFFSETTO:-0500
RDATE:20240310T020000
END:DAYLIGHT
END:VTIMEZONE
BEGIN:VEVENT
UID:63158a7f-a75e-4496-8e3a-52372ff1f530
DTSTAMP:20260422T123943Z
DESCRIPTION:
DTSTART;TZID=America/Chicago:20230521T070000
DTEND;TZID=America/Chicago:20230521T150000
LOCATION:Lincoln Ikes Rifle Range 2
SUMMARY:ARA (Range 2)
END:VEVENT
END:VCALENDAR
