BEGIN:VCALENDAR
VERSION:2.0
PRODID:-//lincolnikes.com//NONSGML kigkonsult.se iCalcreator 2.30.10//
CALSCALE:GREGORIAN
METHOD:PUBLISH
UID:0458db69-df1f-4d93-9640-45ce2113d035
X-WR-CALDESC:
X-WR-RELCALID:201bb9d92567a5f627d136453fc61b99
X-WR-TIMEZONE:America/Chicago
BEGIN:VTIMEZONE
TZID:America/Chicago
BEGIN:STANDARD
TZNAME:CST
DTSTART:20221106T020000
TZOFFSETFROM:-0500
TZOFFSETTO:-0600
RDATE:20231105T020000
RDATE:20241103T020000
END:STANDARD
BEGIN:DAYLIGHT
TZNAME:CDT
DTSTART:20230312T020000
TZOFFSETFROM:-0600
TZOFFSETTO:-0500
RDATE:20240310T020000
END:DAYLIGHT
END:VTIMEZONE
BEGIN:VEVENT
UID:363f7b1a-6fb7-402c-aee7-c3d3ccca55f6
DTSTAMP:20260422T124453Z
DESCRIPTION:
DTSTART;TZID=America/Chicago:20230524T000000
DTEND;TZID=America/Chicago:20230524T235900
LOCATION:Rifle Range 2
SUMMARY:(5:00 - 7:00 p.m.) Rifle Range 1 Closed for Training Activity
END:VEVENT
END:VCALENDAR
