BEGIN:VCALENDAR
VERSION:2.0
PRODID:-//lincolnikes.com//NONSGML kigkonsult.se iCalcreator 2.30.10//
CALSCALE:GREGORIAN
METHOD:PUBLISH
UID:d7ec586b-bc03-415c-ab09-39e5ab942aeb
X-WR-CALDESC:
X-WR-RELCALID:5976940c462338e5dda13c96e3705e50
X-WR-TIMEZONE:America/Chicago
BEGIN:VTIMEZONE
TZID:America/Chicago
BEGIN:STANDARD
TZNAME:CST
DTSTART:20221106T020000
TZOFFSETFROM:-0500
TZOFFSETTO:-0600
RDATE:20231105T020000
RDATE:20241103T020000
END:STANDARD
BEGIN:DAYLIGHT
TZNAME:CDT
DTSTART:20230312T020000
TZOFFSETFROM:-0600
TZOFFSETTO:-0500
RDATE:20240310T020000
END:DAYLIGHT
END:VTIMEZONE
BEGIN:VEVENT
UID:084c3c86-62ad-45bb-bddf-7e0307d001f5
DTSTAMP:20260422T124536Z
DESCRIPTION:
DTSTART;TZID=America/Chicago:20230527T070000
DTEND;TZID=America/Chicago:20230527T150000
LOCATION:Lincoln Ikes Rifle Ranges 1 & 4
SUMMARY:UML 2-Gun Competition (Ranges 1 & 4)
END:VEVENT
END:VCALENDAR
