BEGIN:VCALENDAR
VERSION:2.0
PRODID:-//lincolnikes.com//NONSGML kigkonsult.se iCalcreator 2.30.10//
CALSCALE:GREGORIAN
METHOD:PUBLISH
UID:ef6c0ea6-05d2-4eba-88fc-c87ed05a2d38
X-WR-CALDESC:
X-WR-RELCALID:ae1c8abc5010ac7e6785229a0d05c756
X-WR-TIMEZONE:America/Chicago
BEGIN:VTIMEZONE
TZID:America/Chicago
BEGIN:STANDARD
TZNAME:CST
DTSTART:20221106T020000
TZOFFSETFROM:-0500
TZOFFSETTO:-0600
RDATE:20231105T020000
RDATE:20241103T020000
END:STANDARD
BEGIN:DAYLIGHT
TZNAME:CDT
DTSTART:20230312T020000
TZOFFSETFROM:-0600
TZOFFSETTO:-0500
RDATE:20240310T020000
END:DAYLIGHT
END:VTIMEZONE
BEGIN:VEVENT
UID:961b406e-6971-45ae-ad2e-06537df46902
DTSTAMP:20260422T124453Z
DESCRIPTION:
DTSTART;TZID=America/Chicago:20230531T000000
DTEND;TZID=America/Chicago:20230531T235900
LOCATION:Rifle Range 1
SUMMARY:(5:00 - 7:00 p.m.) Rifle Range 1 Closed for Training Activity
END:VEVENT
END:VCALENDAR
