BEGIN:VCALENDAR
VERSION:2.0
PRODID:-//lincolnikes.com//NONSGML kigkonsult.se iCalcreator 2.30.10//
CALSCALE:GREGORIAN
METHOD:PUBLISH
UID:11d04d07-12be-497d-8732-26d8027ca433
X-WR-CALDESC:
X-WR-RELCALID:a1466c38640f9601517fb87b131c37af
X-WR-TIMEZONE:America/Chicago
BEGIN:VTIMEZONE
TZID:America/Chicago
BEGIN:STANDARD
TZNAME:CST
DTSTART:20221106T020000
TZOFFSETFROM:-0500
TZOFFSETTO:-0600
RDATE:20231105T020000
RDATE:20241103T020000
END:STANDARD
BEGIN:DAYLIGHT
TZNAME:CDT
DTSTART:20230312T020000
TZOFFSETFROM:-0600
TZOFFSETTO:-0500
RDATE:20240310T020000
END:DAYLIGHT
END:VTIMEZONE
BEGIN:VEVENT
UID:17e4e938-8bb3-417f-97fe-8b69b1d6abbe
DTSTAMP:20260424T091557Z
DESCRIPTION:
DTSTART;TZID=America/Chicago:20230601T180000
DTEND;TZID=America/Chicago:20230601T220000
LOCATION:Lincoln Ikes Trap Range & Clubhouse
SUMMARY:Ikes Summer Trap League (All Traps & Clubhouse)
END:VEVENT
END:VCALENDAR
