BEGIN:VCALENDAR
VERSION:2.0
PRODID:-//lincolnikes.com//NONSGML kigkonsult.se iCalcreator 2.30.10//
CALSCALE:GREGORIAN
METHOD:PUBLISH
UID:5e677ee4-d31e-4fd3-bda0-6618d1ca8fdf
X-WR-CALDESC:
X-WR-RELCALID:aa6d20831833d086df93b8cf81096fa3
X-WR-TIMEZONE:America/Chicago
BEGIN:VTIMEZONE
TZID:America/Chicago
BEGIN:STANDARD
TZNAME:CST
DTSTART:20221106T020000
TZOFFSETFROM:-0500
TZOFFSETTO:-0600
RDATE:20231105T020000
RDATE:20241103T020000
END:STANDARD
BEGIN:DAYLIGHT
TZNAME:CDT
DTSTART:20230312T020000
TZOFFSETFROM:-0600
TZOFFSETTO:-0500
RDATE:20240310T020000
END:DAYLIGHT
END:VTIMEZONE
BEGIN:VEVENT
UID:d8150a11-b9dc-4bae-9210-9e6eea4399c9
DTSTAMP:20260424T091433Z
DESCRIPTION:
DTSTART;TZID=America/Chicago:20230608T180000
DTEND;TZID=America/Chicago:20230608T220000
LOCATION:Lincoln Ikes Trap Range & Clubhouse
SUMMARY:Ikes Summer Trap League (All Traps & Clubhouse)
END:VEVENT
END:VCALENDAR
