BEGIN:VCALENDAR
VERSION:2.0
PRODID:-//lincolnikes.com//NONSGML kigkonsult.se iCalcreator 2.30.10//
CALSCALE:GREGORIAN
METHOD:PUBLISH
UID:c2588c3f-d102-4220-a2f8-e68c4162a580
X-WR-CALDESC:
X-WR-RELCALID:17bd49a4d2ba69728a2e7ccef92c2bad
X-WR-TIMEZONE:America/Chicago
BEGIN:VTIMEZONE
TZID:America/Chicago
BEGIN:STANDARD
TZNAME:CST
DTSTART:20221106T020000
TZOFFSETFROM:-0500
TZOFFSETTO:-0600
RDATE:20231105T020000
RDATE:20241103T020000
END:STANDARD
BEGIN:DAYLIGHT
TZNAME:CDT
DTSTART:20230312T020000
TZOFFSETFROM:-0600
TZOFFSETTO:-0500
RDATE:20240310T020000
END:DAYLIGHT
END:VTIMEZONE
BEGIN:VEVENT
UID:19a653f1-38e8-4192-b032-d5ce0e66d302
DTSTAMP:20260422T142658Z
DESCRIPTION:
DTSTART;TZID=America/Chicago:20230610T090000
DTEND;TZID=America/Chicago:20230610T110000
LOCATION:Lincoln Ikes Rifle Range 2
SUMMARY:CMP Rimfire Sporter Rifle (Range 2)
END:VEVENT
END:VCALENDAR
