BEGIN:VCALENDAR
VERSION:2.0
PRODID:-//lincolnikes.com//NONSGML kigkonsult.se iCalcreator 2.30.10//
CALSCALE:GREGORIAN
METHOD:PUBLISH
UID:fa597bac-27d1-40d1-9e61-7682e8c264bb
X-WR-CALDESC:
X-WR-RELCALID:f56b3818a9d05da6b2fe00f8fc6bc4a6
X-WR-TIMEZONE:America/Chicago
BEGIN:VTIMEZONE
TZID:America/Chicago
BEGIN:STANDARD
TZNAME:CST
DTSTART:20221106T020000
TZOFFSETFROM:-0500
TZOFFSETTO:-0600
RDATE:20231105T020000
RDATE:20241103T020000
END:STANDARD
BEGIN:DAYLIGHT
TZNAME:CDT
DTSTART:20230312T020000
TZOFFSETFROM:-0600
TZOFFSETTO:-0500
RDATE:20240310T020000
END:DAYLIGHT
END:VTIMEZONE
BEGIN:VEVENT
UID:1de39a3a-3af6-4386-8dc5-c0e4f591d9aa
DTSTAMP:20260422T142945Z
DESCRIPTION:
DTSTART;TZID=America/Chicago:20230610T120000
DTEND;TZID=America/Chicago:20230610T183000
LOCATION:Lincoln Ikes Rifle Range 2
SUMMARY:12:00noon - Sunset: Bowling Pin Match (Range 2)
END:VEVENT
END:VCALENDAR
