BEGIN:VCALENDAR
VERSION:2.0
PRODID:-//lincolnikes.com//NONSGML kigkonsult.se iCalcreator 2.30.10//
CALSCALE:GREGORIAN
METHOD:PUBLISH
UID:27df930a-f636-4e65-9cdb-536e68ac37a2
X-WR-CALDESC:Due to the limit of 60 participants pre-registration is requir
 ed. Check-in begins at 8:30AM \nFISHING\nSHOOTING \nARCHERY \nOpen to chil
 dren ages 10-18 and must be accompanied by a parent or guardian \n\nEQUIPM
 ENT & LUNCH PROVIDED \n\nNebraska State Rules do apply: students age 16+ m
 ust have a valid fishing license.
X-WR-RELCALID:56af779e9d0f32b7198987ea71a8a7b1
X-WR-TIMEZONE:America/Chicago
BEGIN:VTIMEZONE
TZID:America/Chicago
BEGIN:STANDARD
TZNAME:CST
DTSTART:20221106T020000
TZOFFSETFROM:-0500
TZOFFSETTO:-0600
RDATE:20231105T020000
RDATE:20241103T020000
END:STANDARD
BEGIN:DAYLIGHT
TZNAME:CDT
DTSTART:20230312T020000
TZOFFSETFROM:-0600
TZOFFSETTO:-0500
RDATE:20240310T020000
END:DAYLIGHT
END:VTIMEZONE
BEGIN:VEVENT
UID:e9fe4446-e167-4396-9251-a38c8edfcf34
DTSTAMP:20260424T091258Z
DESCRIPTION:Due to the limit of 60 participants pre-registration is require
 d. Check-in begins at 8:30AM \nFISHING\nSHOOTING \nARCHERY \nOpen to child
 ren ages 10-18 and must be accompanied by a parent or guardian \n\nEQUIPME
 NT & LUNCH PROVIDED \n\nNebraska State Rules do apply: students age 16+ mu
 st have a valid fishing license.
DTSTART;TZID=America/Chicago:20230610T083000
DTEND;TZID=America/Chicago:20230610T140000
LOCATION:
SUMMARY:Ikes Youth Day (Clubhouse\, Archery\, Range\, Traps 6-7\, Rifle Ran
 ge 4\, & Pond)
END:VEVENT
END:VCALENDAR
