BEGIN:VCALENDAR
VERSION:2.0
PRODID:-//lincolnikes.com//NONSGML kigkonsult.se iCalcreator 2.30.10//
CALSCALE:GREGORIAN
METHOD:PUBLISH
UID:cd9c5e5b-f64f-4318-acdf-488daca5f2d1
X-WR-CALDESC:
X-WR-RELCALID:9a24c842650cfb22c4b7ecc325c256cf
X-WR-TIMEZONE:America/Chicago
BEGIN:VTIMEZONE
TZID:America/Chicago
BEGIN:STANDARD
TZNAME:CST
DTSTART:20221106T020000
TZOFFSETFROM:-0500
TZOFFSETTO:-0600
RDATE:20231105T020000
RDATE:20241103T020000
END:STANDARD
BEGIN:DAYLIGHT
TZNAME:CDT
DTSTART:20230312T020000
TZOFFSETFROM:-0600
TZOFFSETTO:-0500
RDATE:20240310T020000
END:DAYLIGHT
END:VTIMEZONE
BEGIN:VEVENT
UID:cb9e03bb-0f84-4f2d-8823-2d48220fc575
DTSTAMP:20260422T141359Z
DESCRIPTION:
DTSTART;TZID=America/Chicago:20230618T070000
DTEND;TZID=America/Chicago:20230618T150000
LOCATION:Lincoln Ikes Rifle Range 2
SUMMARY:ARA (Range 2)
END:VEVENT
END:VCALENDAR
