BEGIN:VCALENDAR
VERSION:2.0
PRODID:-//lincolnikes.com//NONSGML kigkonsult.se iCalcreator 2.30.10//
CALSCALE:GREGORIAN
METHOD:PUBLISH
UID:2b0ff175-69b6-40af-8892-59313740f92b
X-WR-CALDESC:
X-WR-RELCALID:5943418b64fe86f27ed2ca86ca62fcbc
X-WR-TIMEZONE:America/Chicago
BEGIN:VTIMEZONE
TZID:America/Chicago
BEGIN:STANDARD
TZNAME:CST
DTSTART:20221106T020000
TZOFFSETFROM:-0500
TZOFFSETTO:-0600
RDATE:20231105T020000
RDATE:20241103T020000
END:STANDARD
BEGIN:DAYLIGHT
TZNAME:CDT
DTSTART:20230312T020000
TZOFFSETFROM:-0600
TZOFFSETTO:-0500
RDATE:20240310T020000
END:DAYLIGHT
END:VTIMEZONE
BEGIN:VEVENT
UID:fcf07f09-f88c-41f3-b20e-36853543b1cd
DTSTAMP:20260422T142648Z
DESCRIPTION:
DTSTART;TZID=America/Chicago:20230618T080000
DTEND;TZID=America/Chicago:20230618T160000
LOCATION:
SUMMARY:IHMSA Handgun (Range 4)
END:VEVENT
END:VCALENDAR
