BEGIN:VCALENDAR
VERSION:2.0
PRODID:-//lincolnikes.com//NONSGML kigkonsult.se iCalcreator 2.30.10//
CALSCALE:GREGORIAN
METHOD:PUBLISH
UID:ee3b11e1-8702-43f0-9e5a-59adf72794f4
X-WR-CALDESC:
X-WR-RELCALID:10e6db5ba43dbeaa9db55ab200018c19
X-WR-TIMEZONE:America/Chicago
BEGIN:VTIMEZONE
TZID:America/Chicago
BEGIN:STANDARD
TZNAME:CST
DTSTART:20221106T020000
TZOFFSETFROM:-0500
TZOFFSETTO:-0600
RDATE:20231105T020000
RDATE:20241103T020000
END:STANDARD
BEGIN:DAYLIGHT
TZNAME:CDT
DTSTART:20230312T020000
TZOFFSETFROM:-0600
TZOFFSETTO:-0500
RDATE:20240310T020000
END:DAYLIGHT
END:VTIMEZONE
BEGIN:VEVENT
UID:e780d66b-87b6-43d5-ad5b-0431ed4b47e6
DTSTAMP:20260422T143012Z
DESCRIPTION:
DTSTART;TZID=America/Chicago:20230620T000000
DTEND;TZID=America/Chicago:20230620T235900
LOCATION:2 Traps on the Trap Range
SUMMARY:(5:00 - 7:00 p.m.) 2 Traps Closed for Training Activity
END:VEVENT
END:VCALENDAR
