BEGIN:VCALENDAR
VERSION:2.0
PRODID:-//lincolnikes.com//NONSGML kigkonsult.se iCalcreator 2.30.10//
CALSCALE:GREGORIAN
METHOD:PUBLISH
UID:ad13858c-d346-4266-b5cf-188384c2b65c
X-WR-CALDESC:
X-WR-RELCALID:b857fc9214bb95f46b1a083dda996305
X-WR-TIMEZONE:America/Chicago
BEGIN:VTIMEZONE
TZID:America/Chicago
BEGIN:STANDARD
TZNAME:CST
DTSTART:20221106T020000
TZOFFSETFROM:-0500
TZOFFSETTO:-0600
RDATE:20231105T020000
RDATE:20241103T020000
END:STANDARD
BEGIN:DAYLIGHT
TZNAME:CDT
DTSTART:20230312T020000
TZOFFSETFROM:-0600
TZOFFSETTO:-0500
RDATE:20240310T020000
END:DAYLIGHT
END:VTIMEZONE
BEGIN:VEVENT
UID:4fd42d92-9b38-46ec-8552-e1cfae42e9a2
DTSTAMP:20260422T142904Z
DESCRIPTION:
DTSTART;TZID=America/Chicago:20230621T000000
DTEND;TZID=America/Chicago:20230621T235900
LOCATION:2 Traps on the Trap Range
SUMMARY:(5:00 - 7:00 p.m.) 2 Traps Closed for Training Activity
END:VEVENT
END:VCALENDAR
