BEGIN:VCALENDAR
VERSION:2.0
PRODID:-//lincolnikes.com//NONSGML kigkonsult.se iCalcreator 2.30.10//
CALSCALE:GREGORIAN
METHOD:PUBLISH
UID:c6b9116f-6f3b-45d8-aba6-03a4fb814727
X-WR-CALDESC:
X-WR-RELCALID:7522f7823f40584e156c1188e545c513
X-WR-TIMEZONE:America/Chicago
BEGIN:VTIMEZONE
TZID:America/Chicago
BEGIN:STANDARD
TZNAME:CST
DTSTART:20221106T020000
TZOFFSETFROM:-0500
TZOFFSETTO:-0600
RDATE:20231105T020000
RDATE:20241103T020000
END:STANDARD
BEGIN:DAYLIGHT
TZNAME:CDT
DTSTART:20230312T020000
TZOFFSETFROM:-0600
TZOFFSETTO:-0500
RDATE:20240310T020000
END:DAYLIGHT
END:VTIMEZONE
BEGIN:VEVENT
UID:571195d8-948d-4e51-8d01-4cbeb4e35c39
DTSTAMP:20260424T091536Z
DESCRIPTION:
DTSTART;TZID=America/Chicago:20230622T180000
DTEND;TZID=America/Chicago:20230622T220000
LOCATION:Lincoln Ikes Trap Range & Clubhouse
SUMMARY:Ikes Summer Trap League (All Traps & Clubhouse)
END:VEVENT
END:VCALENDAR
