BEGIN:VCALENDAR
VERSION:2.0
PRODID:-//lincolnikes.com//NONSGML kigkonsult.se iCalcreator 2.30.10//
CALSCALE:GREGORIAN
METHOD:PUBLISH
UID:a7e61140-7324-4317-8ad3-9aa5a154375d
X-WR-CALDESC:
X-WR-RELCALID:e6fb5b97b5ddff948d61a1c506710a94
X-WR-TIMEZONE:America/Chicago
BEGIN:VTIMEZONE
TZID:America/Chicago
BEGIN:STANDARD
TZNAME:CST
DTSTART:20221106T020000
TZOFFSETFROM:-0500
TZOFFSETTO:-0600
RDATE:20231105T020000
RDATE:20241103T020000
END:STANDARD
BEGIN:DAYLIGHT
TZNAME:CDT
DTSTART:20230312T020000
TZOFFSETFROM:-0600
TZOFFSETTO:-0500
RDATE:20240310T020000
END:DAYLIGHT
END:VTIMEZONE
BEGIN:VEVENT
UID:50b72490-e8d2-450e-a03f-f666a1c33503
DTSTAMP:20260424T091200Z
DESCRIPTION:
DTSTART;TZID=America/Chicago:20230624T070000
DTEND;TZID=America/Chicago:20230624T150000
LOCATION:Lincoln Ikes Rifle Ranges 1 & 4
SUMMARY:UML 2-Gun Competition (Ranges 1 & 4)
END:VEVENT
END:VCALENDAR
