BEGIN:VCALENDAR
VERSION:2.0
PRODID:-//lincolnikes.com//NONSGML kigkonsult.se iCalcreator 2.30.10//
CALSCALE:GREGORIAN
METHOD:PUBLISH
UID:814b12ee-3002-4171-96a8-c8288a5e512f
X-WR-CALDESC:
X-WR-RELCALID:447b9bbfdb1f97dad08b86def0935fbb
X-WR-TIMEZONE:America/Chicago
BEGIN:VTIMEZONE
TZID:America/Chicago
BEGIN:STANDARD
TZNAME:CST
DTSTART:20221106T020000
TZOFFSETFROM:-0500
TZOFFSETTO:-0600
RDATE:20231105T020000
RDATE:20241103T020000
END:STANDARD
BEGIN:DAYLIGHT
TZNAME:CDT
DTSTART:20230312T020000
TZOFFSETFROM:-0600
TZOFFSETTO:-0500
RDATE:20240310T020000
END:DAYLIGHT
END:VTIMEZONE
BEGIN:VEVENT
UID:a86b6217-7fd2-416e-8d83-93104fb19b78
DTSTAMP:20260424T091320Z
DESCRIPTION:
DTSTART;TZID=America/Chicago:20230627T000000
DTEND;TZID=America/Chicago:20230627T235900
LOCATION:Pistol Range 3 - 7-Yard Lanes
SUMMARY:(5:00 - 7:00 p.m.) Pistol Range 3 - 7-Yard Lanes Closed for Trainin
 g Activity
END:VEVENT
END:VCALENDAR
