BEGIN:VCALENDAR
VERSION:2.0
PRODID:-//lincolnikes.com//NONSGML kigkonsult.se iCalcreator 2.30.10//
CALSCALE:GREGORIAN
METHOD:PUBLISH
UID:81c8155e-e7d4-4208-88d0-5d6a1c6e9a15
X-WR-CALDESC:
X-WR-RELCALID:499d289ef6b48b62dd6da4fb26b24442
X-WR-TIMEZONE:America/Chicago
BEGIN:VTIMEZONE
TZID:America/Chicago
BEGIN:STANDARD
TZNAME:CST
DTSTART:20221106T020000
TZOFFSETFROM:-0500
TZOFFSETTO:-0600
RDATE:20231105T020000
RDATE:20241103T020000
END:STANDARD
BEGIN:DAYLIGHT
TZNAME:CDT
DTSTART:20230312T020000
TZOFFSETFROM:-0600
TZOFFSETTO:-0500
RDATE:20240310T020000
END:DAYLIGHT
END:VTIMEZONE
BEGIN:VEVENT
UID:bb702e6a-c4ec-43c7-a2d3-8e34a9221e17
DTSTAMP:20260424T091356Z
DESCRIPTION:
DTSTART;TZID=America/Chicago:20230628T000000
DTEND;TZID=America/Chicago:20230628T235900
LOCATION:Pistol Range 3 - 7-Yard Lanes
SUMMARY:(5:00 - 7:00 p.m.) Pistol Range 3 - 7-Yard Lanes Closed for Trainin
 g Activity
END:VEVENT
END:VCALENDAR
