BEGIN:VCALENDAR
VERSION:2.0
PRODID:-//lincolnikes.com//NONSGML kigkonsult.se iCalcreator 2.30.10//
CALSCALE:GREGORIAN
METHOD:PUBLISH
UID:dddcb21a-6e71-44ba-9006-0481f7117761
X-WR-CALDESC:
X-WR-RELCALID:2987e254bcdf350d916fe2cd531c0623
X-WR-TIMEZONE:America/Chicago
BEGIN:VTIMEZONE
TZID:America/Chicago
BEGIN:STANDARD
TZNAME:CST
DTSTART:20221106T020000
TZOFFSETFROM:-0500
TZOFFSETTO:-0600
RDATE:20231105T020000
RDATE:20241103T020000
END:STANDARD
BEGIN:DAYLIGHT
TZNAME:CDT
DTSTART:20230312T020000
TZOFFSETFROM:-0600
TZOFFSETTO:-0500
RDATE:20240310T020000
END:DAYLIGHT
END:VTIMEZONE
BEGIN:VEVENT
UID:186f947a-ed62-4316-b074-a6dd42fc03d3
DTSTAMP:20260422T160652Z
DESCRIPTION:
DTSTART;TZID=America/Chicago:20230713T180000
DTEND;TZID=America/Chicago:20230713T200000
LOCATION:Lincoln Ikes Rifle Range 4
SUMMARY:.22 Youth Silhouettes (Range 4)
END:VEVENT
END:VCALENDAR
